BEGIN:VCALENDAR
VERSION:2.0
PRODID:-//Grace Community Church - ECPv6.15.18//NONSGML v1.0//EN
CALSCALE:GREGORIAN
METHOD:PUBLISH
X-WR-CALNAME:Grace Community Church
X-ORIGINAL-URL:https://graceplace.com
X-WR-CALDESC:Events for Grace Community Church
REFRESH-INTERVAL;VALUE=DURATION:PT1H
X-Robots-Tag:noindex
X-PUBLISHED-TTL:PT1H
BEGIN:VTIMEZONE
TZID:America/New_York
BEGIN:DAYLIGHT
TZOFFSETFROM:-0500
TZOFFSETTO:-0400
TZNAME:EDT
DTSTART:20170312T070000
END:DAYLIGHT
BEGIN:STANDARD
TZOFFSETFROM:-0400
TZOFFSETTO:-0500
TZNAME:EST
DTSTART:20171105T060000
END:STANDARD
BEGIN:DAYLIGHT
TZOFFSETFROM:-0500
TZOFFSETTO:-0400
TZNAME:EDT
DTSTART:20180311T070000
END:DAYLIGHT
BEGIN:STANDARD
TZOFFSETFROM:-0400
TZOFFSETTO:-0500
TZNAME:EST
DTSTART:20181104T060000
END:STANDARD
BEGIN:DAYLIGHT
TZOFFSETFROM:-0500
TZOFFSETTO:-0400
TZNAME:EDT
DTSTART:20190310T070000
END:DAYLIGHT
BEGIN:STANDARD
TZOFFSETFROM:-0400
TZOFFSETTO:-0500
TZNAME:EST
DTSTART:20191103T060000
END:STANDARD
END:VTIMEZONE
BEGIN:VEVENT
DTSTART;TZID=America/New_York:20181224T150000
DTEND;TZID=America/New_York:20181224T160000
DTSTAMP:20260422T075947
CREATED:20181016T125134Z
LAST-MODIFIED:20181120T150727Z
UID:1371-1545663600-1545667200@graceplace.com
SUMMARY:Christmas Eve Service
DESCRIPTION:This will be the highlight of your holiday season as we celebrate Christmas at the historic Rochester Opera House! Enjoy Christmas carols\, special music\, and reflections on Christmas on this special night. Each service is only 1 hour long and will be family friendly. This event is free and we encourage you to invite your friends and family! \n3pm & 5pm\nRochester Opera House
URL:https://graceplace.com/event2019/christmas-eve-service/2018-12-24/
LOCATION:Rochester Opera House\, 31 Wakefield St\, Rochester\, NH\, 03867\, United States
ATTACH;FMTTYPE=image/jpeg:https://graceplace.com/wp-content/uploads/2018/11/Christmas-Eve-2018.jpg
END:VEVENT
END:VCALENDAR